BEGIN:VCALENDAR
VERSION:2.0
PRODID:-//SonMX - ECPv6.0.5//NONSGML v1.0//EN
CALSCALE:GREGORIAN
METHOD:PUBLISH
X-ORIGINAL-URL:https://sonmx.mx
X-WR-CALDESC:Eventos para SonMX
REFRESH-INTERVAL;VALUE=DURATION:PT1H
X-Robots-Tag:noindex
X-PUBLISHED-TTL:PT1H
BEGIN:VTIMEZONE
TZID:America/Denver
BEGIN:DAYLIGHT
TZOFFSETFROM:-0700
TZOFFSETTO:-0600
TZNAME:MDT
DTSTART:20260308T090000
END:DAYLIGHT
BEGIN:STANDARD
TZOFFSETFROM:-0600
TZOFFSETTO:-0700
TZNAME:MST
DTSTART:20261101T080000
END:STANDARD
END:VTIMEZONE
BEGIN:VEVENT
DTSTART;TZID=America/Denver:20260214T080000
DTEND;TZID=America/Denver:20260214T170000
DTSTAMP:20260420T063053
CREATED:20260215T031952Z
LAST-MODIFIED:20260215T042549Z
UID:51390-1771056000-1771088400@sonmx.mx
SUMMARY:Gobernador Alfonso Durazo toma protesta a Rebeca Valenzuela como Coordinadora Estatal del ISJ
DESCRIPTION:HERMOSILLO\, SONORA. MX. — – El gobernador Alfonso Durazo tomó protesta a Rebeca Valenzuela Álvarez como Coordinadora Estatal del Instituto Sonorense de la Juventud (ISJ)\, en el marco de la entrada en vigor de la nueva Ley de las Juventudes del Estado de Sonora. \n  \n  \n \nCon la publicación de la Ley\, el cargo deja de denominarse Dirección General para convertirse en Coordinación Estatal de las Juventudes\, fortaleciendo el carácter rector y articulador del Instituto. \n  \n  \nLa nueva legislación reconoce a las juventudes —personas entre 12 y 29 años— como sujetas y sujetos plenos de derechos\, bajo un enfoque de derechos humanos\, igualdad sustantiva y cultura de paz. \n  \n  \nAsimismo\, consolida al ISJ como organismo público descentralizado y autoridad rectora en materia de política pública juvenil\, con facultades ampliadas para otorgar apoyos\, coordinar acciones transversales con dependencias y municipios\, celebrar convenios y operar el Observatorio de las Juventudes. \n  \n  \nEntre los avances más relevantes destaca el reconocimiento legal expreso para otorgar apoyo económico a Casas de Estudiantes\, fortaleciendo su respaldo institucional y jurídico. \n  \n  \nCon esta nueva etapa\, el Instituto asume mayores atribuciones y responsabilidades en la conducción de la política pública juvenil en Sonora\, bajo un marco jurídico moderno y progresivo. \n  \n  \n  \nPUBLICADO EL 14 DE FEBRERO 2026 Con información de GOBSON 0226/140)
URL:https://sonmx.mx/calendario/gobernador-alfonso-durazo-toma-protesta-a-rebeca-valenzuela-como-coordinadora-estatal-del-isj/
CATEGORIES:DEPORTES
ATTACH;FMTTYPE=image/jpeg:https://sonmx.mx/wp-content/uploads/2026/02/Durazo-toma-protesta-a-Rebeca-Valenzuela-como-Coordinadora-Estatal-del-ISJ..-1.jpg
END:VEVENT
END:VCALENDAR